BEGIN:VCALENDAR
VERSION:2.0
PRODID:-//eventon.com NONSGML v1.0//EN
CALSCALE:GREGORIAN
METHOD:PUBLISH
BEGIN:VEVENT
UID:69e4c03f2dd28
DTSTAMP:20260419T114503Z
DTSTART:20241108T230000Z
DTEND:20241109T210000Z
LOCATION:
SUMMARY:Ashland Artists' Autumn Showcase and Marketplace
DESCRIPTION:Opening Reception: Friday\,  November 8 6PM-8PM Showcase: Satur
 day\,  November 9 10AM-4PM Featuring: Immagine\,  Pat Morris\,  William Har
 rison\,  Susannah Wagner Merritt\,  Nancy Cozart\,  Katie Grottenhaler\,  T
 im Slaven\,  Allison Bass-Broaddus\,  Genevieve Franco\,  Richard Harding\,
   580\,  Pottery\,  Linda Hollett-Bazouzi\,  Linda Feeley\,  Joseph Murphy\
 ,  Kiran Krishnamurthy\,  and more!\nhttps://visitashlandva.com/events/ashl
 and-artists-autumn-showcase-and-marketplace/
URL:https://visitashlandva.com/events/ashland-artists-autumn-showcase-and-marketplace/
END:VEVENT
END:VCALENDAR