BEGIN:VCALENDAR
VERSION:2.0
PRODID:-//eventon.com NONSGML v1.0//EN
CALSCALE:GREGORIAN
METHOD:PUBLISH
BEGIN:VEVENT
UID:69e8c54e8880a
DTSTAMP:20260422T125542Z
DTSTART:20251108T180000Z
DTEND:20251108T220000Z
LOCATION:The Red Barn 12438 Elmont Road
SUMMARY:Celebrating the Life and Legacy of Artist Jerry Peart
DESCRIPTION:Ashland mourns the passing of internationally acclaimed sculpto
 r Jerry Linn Peart\,  who passed away peacefully at his home on October 12\
 ,  2025\,  at the age of 77. Known for his vibrant\,  lyrical abstractions 
 that transformed public spaces across the country\,  Jerry was not only one
  of America’s most influential sculptors[..]\nhttps://visitashlandva.com/
 events/celebrating-the-life-and-legacy-of-artist-jerry-peart/
URL:https://visitashlandva.com/events/celebrating-the-life-and-legacy-of-artist-jerry-peart/
END:VEVENT
END:VCALENDAR