BEGIN:VCALENDAR
VERSION:2.0
PRODID:-//eventon.com NONSGML v1.0//EN
CALSCALE:GREGORIAN
METHOD:PUBLISH
BEGIN:VEVENT
UID:69e5ecf414352
DTSTAMP:20260420T090804Z
DTSTART:20260303T153000Z
DTEND:20260303T160000Z
LOCATION:Ashland Branch Library 201 S Railroad Ave\,  Ashland\,  VA 23005\,  USA
SUMMARY:Toddler Storytime
DESCRIPTION:Join the Ashland Library for weekly storytimes and children’s
  programming for toddlers\,  preschoolers\,  and elementary-aged kids! 📖
  Programs are offered multiple times throughout the month and some held wee
 kly. 🔗 Ashland Library We encourage families to check the library’s of
 ficial page for the most up-to-date information.\nhttps://visitashlandva.co
 m/events/toddler-storytime-11/
URL:https://visitashlandva.com/events/toddler-storytime-11/
END:VEVENT
END:VCALENDAR