BEGIN:VCALENDAR
VERSION:2.0
PRODID:-//eventon.com NONSGML v1.0//EN
CALSCALE:GREGORIAN
METHOD:PUBLISH
BEGIN:VEVENT
UID:69e5e9726b27b
DTSTAMP:20260420T085306Z
DTSTART:20260311T190000Z
DTEND:20260311T201500Z
LOCATION:Ashland Branch Library 201 S Railroad Ave\,  Ashland\,  VA 23005\,  USA
SUMMARY:Visit with Maggie
DESCRIPTION:Ages 5 &amp; Up. Visit or read to Maggie\,  a therapy-trained d
 og. Sign up for a 15 min. time slot at https://pamunkeylibrary.libcal.com/
  or call 804-798-4072 to register. Bring a library book to read or one of y
 our favorites. You’re sure to have a pawsitive time! First seesion starts
  at 3:00 p.m.\, [..]\nhttps://visitashlandva.com/events/visit-with-maggie/
URL:https://visitashlandva.com/events/visit-with-maggie/
END:VEVENT
END:VCALENDAR